BEGIN:VCALENDAR
VERSION:2.0
CALSCALE:GREGORIAN
METHOD:PUBLISH
X-WR-TIMEZONE:Australia/Sydney
BEGIN:VTIMEZONE
TZID:Australia/Sydney
BEGIN:STANDARD
TZNAME:AEST
DTSTART:19700101T000000
TZOFFSETFROM:+1100
TZOFFSETTO:+1000
END:STANDARD
END:VTIMEZONE
BEGIN:VEVENT
DTSTART;TZID=Australia/Sydney:20180220T090000
DTEND;TZID=Australia/Sydney:20180220T150000
DTSTAMP:20260425T015052
UID:78
SUMMARY:School Photos
DESCRIPTION:Full College Uniform to be worn including tie (if you have one).
No sports uniform.
Please inform College if your student is unable to have their photo published as class photos are placed into our College Year Book.
SEQUENCE:0
STATUS:CONFIRMED
TRANSP:OPAQUE
END:VEVENT
END:VCALENDAR