BEGIN:VCALENDAR
VERSION:2.0
CALSCALE:GREGORIAN
METHOD:PUBLISH
X-WR-TIMEZONE:Australia/Sydney
BEGIN:VTIMEZONE
TZID:Australia/Sydney
BEGIN:STANDARD
TZNAME:AEST
DTSTART:19700101T000000
TZOFFSETFROM:+1100
TZOFFSETTO:+1000
END:STANDARD
END:VTIMEZONE
BEGIN:VEVENT
DTSTART;TZID=Australia/Sydney:20180215T084000
DTEND;TZID=Australia/Sydney:20180215T151500
DTSTAMP:20260425T015248
UID:81
SUMMARY:Senior Sport
DESCRIPTION:Senior Inter-School Cricket
John Laffen Reserve Donnybrook Rd, Donnybrook
Students should bring sunscreen, drinks and food as there will be no facilities to purchase these. Additionally they can bring their own cricket equipment as applicable.
WSC Sports Uniform
School Bus

Tennis - Senior Sport
Wallan Tennis Club 42 Bentnick St Wallan
Students should bring a hat, sunscreen, drink and food for lunch.
WSC Sports Uniform
Walking

Volleyball - Senior Sport
YMCA Lesiure City 41-53 Miller St, Epping
Students should bring food and drink for lunch
WSC Sports Uniform
School Bus
&amp;nbsp;
SEQUENCE:0
STATUS:CONFIRMED
TRANSP:OPAQUE
END:VEVENT
END:VCALENDAR