BEGIN:VCALENDAR
VERSION:2.0
CALSCALE:GREGORIAN
METHOD:PUBLISH
X-WR-TIMEZONE:Australia/Sydney
BEGIN:VTIMEZONE
TZID:Australia/Sydney
BEGIN:STANDARD
TZNAME:AEST
DTSTART:19700101T000000
TZOFFSETFROM:+1100
TZOFFSETTO:+1000
END:STANDARD
END:VTIMEZONE
BEGIN:VEVENT
DTSTART;TZID=Australia/Sydney:20180216T090000
DTEND;TZID=Australia/Sydney:20180216T031500
DTSTAMP:20260425T014918
UID:82
SUMMARY:Intermediate Sport
DESCRIPTION:Tennis - Intermediate Sports
Wallan Tennis Club 42 Bentnick St Wallan
Students should bring hat, sunscreen, food and drink for the day
WSC Sports Uniform
Walking
&amp;nbsp;
Volleyball - Intermediate
YMCA Lesiure City 41-53 Miller St, Epping
Students should bring drinks and lunch.
WSC Sports Uniform
School Bus

Intermediate Volleyball - Boys
YMCA Lesiure City 41-53 Miller St, Epping
Students will need to bring drinks and food for lunch
WSC Sports Uniform
School Bus
SEQUENCE:0
STATUS:CONFIRMED
TRANSP:OPAQUE
END:VEVENT
END:VCALENDAR