BEGIN:VCALENDAR
VERSION:2.0
CALSCALE:GREGORIAN
METHOD:PUBLISH
X-WR-TIMEZONE:Australia/Sydney
BEGIN:VTIMEZONE
TZID:Australia/Sydney
BEGIN:STANDARD
TZNAME:AEST
DTSTART:19700101T000000
TZOFFSETFROM:+1100
TZOFFSETTO:+1000
END:STANDARD
END:VTIMEZONE
BEGIN:VEVENT
DTSTART;TZID=Australia/Sydney:20180223T080000
DTEND;TZID=Australia/Sydney:20180223T161500
DTSTAMP:20260425T014157
UID:84
SUMMARY:GTAC Year 11 Biology
DESCRIPTION:GTAC, 77 Story Street, Parkville
Full college uniform to be worn
Students will have an opportunity to purchase lunch at Melbourne University, or may bring their own lunch.
SAC task for Outcome 1, and first-hand experience using Scientific techniques to stain and observe prokaryotic and eukaryotic cells at a microscopic level.
&amp;nbsp;
&amp;nbsp;
8:00am - 4:15pm
&amp;nbsp;
SEQUENCE:0
STATUS:CONFIRMED
TRANSP:OPAQUE
END:VEVENT
END:VCALENDAR