BEGIN:VCALENDAR
VERSION:2.0
CALSCALE:GREGORIAN
METHOD:PUBLISH
X-WR-TIMEZONE:Australia/Sydney
BEGIN:VTIMEZONE
TZID:Australia/Sydney
BEGIN:STANDARD
TZNAME:AEST
DTSTART:19700101T000000
TZOFFSETFROM:+1100
TZOFFSETTO:+1000
END:STANDARD
END:VTIMEZONE
BEGIN:VEVENT
DTSTART;TZID=Australia/Sydney:20180308T090000
DTEND;TZID=Australia/Sydney:20180308T031500
DTSTAMP:20260425T014235
UID:89
SUMMARY:Casual Clothes Day
DESCRIPTION:Please ensure your clothing meets our policy.

All tops and shirts must cover the shoulders and should not be low cut. All tops should be of sufficient length to cover the midriff
Shoulderless, shoeâ€string strapped and singlet tops are not appropriate
Shorts (both male and female), dresses and skirts must sit no lower than the hips and must be midâ€ thigh length or longer
Shorts, Skirts or dresses which contain slits or folds that can expose the leg are also not permitted
Jeggings and leggings are not to be worn without a mid-thigh length clothing item over the top
Jeans with rips that expose the upper thigh area are not permitted
Clothes must not convey inappropriate messages
Night attire (Pajamas &amp;ndash; PJs etc.) is not acceptable
If students have a Physical Education, Science or Design and Technology class on a casual clothes day then they must wear or bring the appropriate footwear
WSC Uniform policy still applies to facial piercings, jewellery, hair colour, makeup and nail polish.

SEQUENCE:0
STATUS:CONFIRMED
TRANSP:OPAQUE
END:VEVENT
END:VCALENDAR